BEGIN:VCALENDAR
VERSION:2.0
PRODID:-//Phoenix STS Ltd - ECPv4.6.1//NONSGML v1.0//EN
CALSCALE:GREGORIAN
METHOD:PUBLISH
X-WR-CALNAME:Phoenix STS Ltd
X-ORIGINAL-URL:https://www.phoenixsts.ie
X-WR-CALDESC:Events for Phoenix STS Ltd
BEGIN:VEVENT
DTSTART;TZID=Europe/Dublin:20171129T093000
DTEND;TZID=Europe/Dublin:20171129T170000
DTSTAMP:20171029T002739
CREATED:20170904T143058Z
LAST-MODIFIED:20171019T144442Z
UID:4294-1511947800-1511974800@www.phoenixsts.ie
SUMMARY:Residential Care Fire Safety Management
DESCRIPTION:Residential Care Fire Safety Management Course\nOur 2 Day Residential Care Fire Safety Management Course is highly interactive and will train learners with responsibility for Fire Safety Management in a Designated Centre \nAs the Fire Safety Manager you will be a focus point for all fire safety matters within the Designated Centre. The role of Fire Safety Manager is primarily a managerial role suitable for a senior managers. The role does not necessitate the duty holder to possess fire safety competencies provided that they have sufficient access to Competent Fire Safety Advice (Fire Safety Consultant). This Course will enable you to competently fulfil your role and have suitable support structures in place. \nAll our instructors have work experience in fire safety within healthcare and are evacuation aid instructors. The course instructor will detail all the essential duties and roles of a Residential Care Fire Safety Manager such as; \n\nThe key steps in fire safety management within a Nursing Home (Designated Centre).\nUnderstand Evacuation types such as single stage evacuation\, progressive horizontal evacuation\, vertical evacuation and delayed evacuation and when it is necessary to implement each.\nThe evacuation of residents with limited mobility.\nManagement responsibilities with in the Designated Centre.\nThe implementation of the fire safety programme with in the Designated Centre.\nFire drills.\nWhat is meaning of a designated area.\nThe steps to take to put an Emergency Management System in place.\nDealing with outside contractors and controlling of Hot Work Permits.\n\nAims & ObjectivesCourse OutlineCertificationCourse AdminAdditional Information\nCourse Aims;\n\nThe safety of staff\, residents and visitors.\nTo manage fire safety in the Designated Centre.\nThe safe use of evacuation aids.\nKnow what to do in the event of a fire.\nThe effective reaction to a fire.\n\nCourse Objectives;\n\nTo provide training to individuals who intend to take on the role of Fire Safety Manager with in the Designated Centre.\nTo enabling the Fire Safety Manager to fulfil their role effectively.\nTo manage fire safety in the Designated Centre.\nTo ensure adequate fire safety procedures are in place and maintained.\nThe safety of staff\, residents and visitors.\nThe prevention of a fire in the Designated Centre.\n\n\n\nPre-Course Requirements;\nEnglish is the language in which training is delivered and learner must have a fluency in English. Please let us know if learners have any specific learner requirements. \nCourse Programme;\n\nFire and Safety Legislation.\nHealth Act 2007 (Care and Welfare of Residents in Designated Centres for Older People) Regulations.\nNational Standards for Residential Care Settings for Older People in Ireland.\nGuidance on Fire Compliance for Designated Centres Risk Management of Smoking in Designated Centres.\nEmergency Management System.\nWhat is a Fire Safety Audit!\nManagement Responsibilities.\nRole of the Fire Safety Manager.\nStaff Training.\nRecord Keeping.\nChemistry of fire.\nSpread of fire.\nClass of fire.\nPortable Fire Extinguishers.\nFixed Firefighting Systems.\nFire Detection and Alarm Systems.\nEmergency Lighting System.\nFire Prevention.\nOxygen and Fire Safety.\nCompartmentation.\nEscape Routes.\nFire Doors.\nFires Involving Clothing.\nEmergency Procedures.\nEvacuation Types.\nPhases of Evacuation.\nSigns\, Notices and Evacuation Floor Plan.\nAction to Take in the Event of a Fire.\nAction to Take on Hearing Fire Alarm.\nAssisting the Fire Brigade.\nEvacuation Aids.\n\nTraining Methods;\n\nClassroom based power-point presentation.\nWorkshops.\n\n\n\n\nUpon successful completion of this course learners will receive a Phoenix STS Ltd – Residential Care Fire Safety Management Certification.\nThereafter course refreshment is recommended after 3 years.\n\n\n\nWho Should Attend?\n\nFire Safety Managers.\nRegistered Provider.\nPerson in Charge.\nAssistant Director of Nursing.\nClinical Nurse Manager.\nStaff Nurse.\nSenior Care Assistant.\nMaintenance Manager.\nHealth and Safety Manager.\nTraining\, Quality\, Accreditation and Risk Managers.\nHuman Resources Managers.\n\nCourse Materials;\nCourse handout. \nDuration;\n13 Hours \nMaximum Learners;\n16 \n\n\n\nCourse is conducted in accordance with (Fire Safety in Nursing Homes – Department of Environment and Local Government\, National Quality Standards for Residential Care Settings for Older People – Health Information and Quality Authority and Health Technical Memorandum – Department of Health U.K.).\nThe role of Fire Safety Manager may be combined with other operational roles such as Health and Safety\, Risk Management\, Emergency Planning etc…\nWe will also cover duties under the Fire Services Act 1981 (2003)\, Safety Health and Welfare at Work Act 2005 and Health Information and Quality Authority (HIQA) registration.\n\n\n
URL:https://www.phoenixsts.ie/public-courses/residential-care-fire-safety-management-2/2017-11-29/
LOCATION:Old Lucan Road\, Chapelizod\, Dublin 20\, Ireland
GEO:53.3579322;-6.378514
X-APPLE-STRUCTURED-LOCATION;VALUE=URI;X-ADDRESS=Old Lucan Road Chapelizod Dublin 20 Ireland;X-APPLE-RADIUS=500;X-TITLE=Old Lucan Road\, Chapelizod:geo:-6.378514,53.3579322
ATTACH;FMTTYPE=image/png:https://www.phoenixsts.ie/wp-content/uploads/2015/12/training-2.png
ORGANIZER;CN="Phoenix%20STS%20Ltd":MAILTO:info@phoenixsts.ie
END:VEVENT
BEGIN:VEVENT
DTSTART;TZID=Europe/Dublin:20171130T093000
DTEND;TZID=Europe/Dublin:20171130T170000
DTSTAMP:20171029T002739
CREATED:20170904T143058Z
LAST-MODIFIED:20171019T144443Z
UID:4787-1512034200-1512061200@www.phoenixsts.ie
SUMMARY:Residential Care Fire Safety Management
DESCRIPTION:Residential Care Fire Safety Management Course\nOur 2 Day Residential Care Fire Safety Management Course is highly interactive and will train learners with responsibility for Fire Safety Management in a Designated Centre \nAs the Fire Safety Manager you will be a focus point for all fire safety matters within the Designated Centre. The role of Fire Safety Manager is primarily a managerial role suitable for a senior managers. The role does not necessitate the duty holder to possess fire safety competencies provided that they have sufficient access to Competent Fire Safety Advice (Fire Safety Consultant). This Course will enable you to competently fulfil your role and have suitable support structures in place. \nAll our instructors have work experience in fire safety within healthcare and are evacuation aid instructors. The course instructor will detail all the essential duties and roles of a Residential Care Fire Safety Manager such as; \n\nThe key steps in fire safety management within a Nursing Home (Designated Centre).\nUnderstand Evacuation types such as single stage evacuation\, progressive horizontal evacuation\, vertical evacuation and delayed evacuation and when it is necessary to implement each.\nThe evacuation of residents with limited mobility.\nManagement responsibilities with in the Designated Centre.\nThe implementation of the fire safety programme with in the Designated Centre.\nFire drills.\nWhat is meaning of a designated area.\nThe steps to take to put an Emergency Management System in place.\nDealing with outside contractors and controlling of Hot Work Permits.\n\nAims & ObjectivesCourse OutlineCertificationCourse AdminAdditional Information\nCourse Aims;\n\nThe safety of staff\, residents and visitors.\nTo manage fire safety in the Designated Centre.\nThe safe use of evacuation aids.\nKnow what to do in the event of a fire.\nThe effective reaction to a fire.\n\nCourse Objectives;\n\nTo provide training to individuals who intend to take on the role of Fire Safety Manager with in the Designated Centre.\nTo enabling the Fire Safety Manager to fulfil their role effectively.\nTo manage fire safety in the Designated Centre.\nTo ensure adequate fire safety procedures are in place and maintained.\nThe safety of staff\, residents and visitors.\nThe prevention of a fire in the Designated Centre.\n\n\n\nPre-Course Requirements;\nEnglish is the language in which training is delivered and learner must have a fluency in English. Please let us know if learners have any specific learner requirements. \nCourse Programme;\n\nFire and Safety Legislation.\nHealth Act 2007 (Care and Welfare of Residents in Designated Centres for Older People) Regulations.\nNational Standards for Residential Care Settings for Older People in Ireland.\nGuidance on Fire Compliance for Designated Centres Risk Management of Smoking in Designated Centres.\nEmergency Management System.\nWhat is a Fire Safety Audit!\nManagement Responsibilities.\nRole of the Fire Safety Manager.\nStaff Training.\nRecord Keeping.\nChemistry of fire.\nSpread of fire.\nClass of fire.\nPortable Fire Extinguishers.\nFixed Firefighting Systems.\nFire Detection and Alarm Systems.\nEmergency Lighting System.\nFire Prevention.\nOxygen and Fire Safety.\nCompartmentation.\nEscape Routes.\nFire Doors.\nFires Involving Clothing.\nEmergency Procedures.\nEvacuation Types.\nPhases of Evacuation.\nSigns\, Notices and Evacuation Floor Plan.\nAction to Take in the Event of a Fire.\nAction to Take on Hearing Fire Alarm.\nAssisting the Fire Brigade.\nEvacuation Aids.\n\nTraining Methods;\n\nClassroom based power-point presentation.\nWorkshops.\n\n\n\n\nUpon successful completion of this course learners will receive a Phoenix STS Ltd – Residential Care Fire Safety Management Certification.\nThereafter course refreshment is recommended after 3 years.\n\n\n\nWho Should Attend?\n\nFire Safety Managers.\nRegistered Provider.\nPerson in Charge.\nAssistant Director of Nursing.\nClinical Nurse Manager.\nStaff Nurse.\nSenior Care Assistant.\nMaintenance Manager.\nHealth and Safety Manager.\nTraining\, Quality\, Accreditation and Risk Managers.\nHuman Resources Managers.\n\nCourse Materials;\nCourse handout. \nDuration;\n13 Hours \nMaximum Learners;\n16 \n\n\n\nCourse is conducted in accordance with (Fire Safety in Nursing Homes – Department of Environment and Local Government\, National Quality Standards for Residential Care Settings for Older People – Health Information and Quality Authority and Health Technical Memorandum – Department of Health U.K.).\nThe role of Fire Safety Manager may be combined with other operational roles such as Health and Safety\, Risk Management\, Emergency Planning etc…\nWe will also cover duties under the Fire Services Act 1981 (2003)\, Safety Health and Welfare at Work Act 2005 and Health Information and Quality Authority (HIQA) registration.\n\n\n
URL:https://www.phoenixsts.ie/public-courses/residential-care-fire-safety-management-2/2017-11-30/
LOCATION:Old Lucan Road\, Chapelizod\, Dublin 20\, Ireland
GEO:53.3579322;-6.378514
X-APPLE-STRUCTURED-LOCATION;VALUE=URI;X-ADDRESS=Old Lucan Road Chapelizod Dublin 20 Ireland;X-APPLE-RADIUS=500;X-TITLE=Old Lucan Road\, Chapelizod:geo:-6.378514,53.3579322
ATTACH;FMTTYPE=image/png:https://www.phoenixsts.ie/wp-content/uploads/2015/12/training-2.png
ORGANIZER;CN="Phoenix%20STS%20Ltd":MAILTO:info@phoenixsts.ie
END:VEVENT
END:VCALENDAR